BEGIN:VCALENDAR
VERSION:2.0
PRODID:-//Grünes Bündnis Bern - ECPv6.15.15//NONSGML v1.0//EN
CALSCALE:GREGORIAN
METHOD:PUBLISH
X-WR-CALNAME:Grünes Bündnis Bern
X-ORIGINAL-URL:https://gbbern.ch
X-WR-CALDESC:Veranstaltungen für Grünes Bündnis Bern
REFRESH-INTERVAL;VALUE=DURATION:PT1H
X-Robots-Tag:noindex
X-PUBLISHED-TTL:PT1H
BEGIN:VTIMEZONE
TZID:Europe/Zurich
BEGIN:DAYLIGHT
TZOFFSETFROM:+0100
TZOFFSETTO:+0200
TZNAME:CEST
DTSTART:20210328T010000
END:DAYLIGHT
BEGIN:STANDARD
TZOFFSETFROM:+0200
TZOFFSETTO:+0100
TZNAME:CET
DTSTART:20211031T010000
END:STANDARD
BEGIN:DAYLIGHT
TZOFFSETFROM:+0100
TZOFFSETTO:+0200
TZNAME:CEST
DTSTART:20220327T010000
END:DAYLIGHT
BEGIN:STANDARD
TZOFFSETFROM:+0200
TZOFFSETTO:+0100
TZNAME:CET
DTSTART:20221030T010000
END:STANDARD
BEGIN:DAYLIGHT
TZOFFSETFROM:+0100
TZOFFSETTO:+0200
TZNAME:CEST
DTSTART:20230326T010000
END:DAYLIGHT
BEGIN:STANDARD
TZOFFSETFROM:+0200
TZOFFSETTO:+0100
TZNAME:CET
DTSTART:20231029T010000
END:STANDARD
END:VTIMEZONE
BEGIN:VEVENT
DTSTART;TZID=Europe/Zurich:20220427T190000
DTEND;TZID=Europe/Zurich:20220427T210000
DTSTAMP:20260421T235748
CREATED:20220406T095920Z
LAST-MODIFIED:20220413T121704Z
UID:10577-1651086000-1651093200@gbbern.ch
SUMMARY:Podium zur Abstimmung über den Frontex-Ausbau
DESCRIPTION:
URL:https://gbbern.ch/event/podium-frontex
LOCATION:Haus der Religionen\, Europaplatz 1\, Bern\, 3008
CATEGORIES:Podium,Veranstaltungen
END:VEVENT
END:VCALENDAR